BEGIN:VCALENDAR
VERSION:2.0
PRODID:-//Stensjönortens Samhällsförening - ECPv6.15.20//NONSGML v1.0//EN
CALSCALE:GREGORIAN
METHOD:PUBLISH
X-WR-CALNAME:Stensjönortens Samhällsförening
X-ORIGINAL-URL:https://stensjon.org
X-WR-CALDESC:Händelser för Stensjönortens Samhällsförening
REFRESH-INTERVAL;VALUE=DURATION:PT1H
X-Robots-Tag:noindex
X-PUBLISHED-TTL:PT1H
BEGIN:VTIMEZONE
TZID:Europe/Stockholm
BEGIN:DAYLIGHT
TZOFFSETFROM:+0100
TZOFFSETTO:+0200
TZNAME:CEST
DTSTART:20250330T010000
END:DAYLIGHT
BEGIN:STANDARD
TZOFFSETFROM:+0200
TZOFFSETTO:+0100
TZNAME:CET
DTSTART:20251026T010000
END:STANDARD
BEGIN:DAYLIGHT
TZOFFSETFROM:+0100
TZOFFSETTO:+0200
TZNAME:CEST
DTSTART:20260329T010000
END:DAYLIGHT
BEGIN:STANDARD
TZOFFSETFROM:+0200
TZOFFSETTO:+0100
TZNAME:CET
DTSTART:20261025T010000
END:STANDARD
BEGIN:DAYLIGHT
TZOFFSETFROM:+0100
TZOFFSETTO:+0200
TZNAME:CEST
DTSTART:20270328T010000
END:DAYLIGHT
BEGIN:STANDARD
TZOFFSETFROM:+0200
TZOFFSETTO:+0100
TZNAME:CET
DTSTART:20271031T010000
END:STANDARD
END:VTIMEZONE
BEGIN:VEVENT
DTSTART;TZID=Europe/Stockholm:20260619T150000
DTEND;TZID=Europe/Stockholm:20260619T170000
DTSTAMP:20260425T180600
CREATED:20260202T120402Z
LAST-MODIFIED:20260202T120402Z
UID:26458-1781881200-1781888400@stensjon.org
SUMMARY:Midsommarfest
DESCRIPTION:
URL:https://stensjon.org/aktivitet/midsommarfest/
LOCATION:Badplatsen\, Sandövägen\, STENSJÖN\, 571 73\, Sverige
END:VEVENT
BEGIN:VEVENT
DTSTART;TZID=Europe/Stockholm:20260627T080000
DTEND;TZID=Europe/Stockholm:20260627T170000
DTSTAMP:20260425T180600
CREATED:20260202T120502Z
LAST-MODIFIED:20260202T120502Z
UID:26460-1782547200-1782579600@stensjon.org
SUMMARY:Styrelsemöte
DESCRIPTION:
URL:https://stensjon.org/aktivitet/styrelsemote-15/
END:VEVENT
END:VCALENDAR